BEGIN:VCALENDAR
VERSION:2.0
PRODID:-//Lansing Dream Homes - ECPv6.15.20//NONSGML v1.0//EN
CALSCALE:GREGORIAN
METHOD:PUBLISH
X-ORIGINAL-URL:https://lansingdreamhomes.com
X-WR-CALDESC:Events for Lansing Dream Homes
REFRESH-INTERVAL;VALUE=DURATION:PT1H
X-Robots-Tag:noindex
X-PUBLISHED-TTL:PT1H
BEGIN:VTIMEZONE
TZID:UTC
BEGIN:STANDARD
TZOFFSETFROM:+0000
TZOFFSETTO:+0000
TZNAME:UTC
DTSTART:20220101T000000
END:STANDARD
END:VTIMEZONE
BEGIN:VEVENT
DTSTART;TZID=UTC:20230216T000000
DTEND;TZID=UTC:20230216T003000
DTSTAMP:20260422T082152
CREATED:20230113T002540Z
LAST-MODIFIED:20230216T041935Z
UID:6724-1676505600-1676507400@lansingdreamhomes.com
SUMMARY:Showing
DESCRIPTION:
URL:https://lansingdreamhomes.com/event/test-event/
LOCATION:706 W Saginaw #1\, 706 W Saginaw #1\, Lansing\, MI\, 48915\, United States
ORGANIZER;CN="Kendra":MAILTO:asghar45m@gmail.com
END:VEVENT
END:VCALENDAR